BEGIN:VCALENDAR
VERSION:2.0
PRODID:-//ChurchDev//Events//EN
CALSCALE:GREGORIAN
METHOD:PUBLISH
BEGIN:VEVENT
UID:3299-20230105@www.rbcfaith.org
SUMMARY:Thursday Men’s &amp\; Women’s Bible Study
DTSTART:20230105T153000Z
DTEND:20230105T170000Z
DESCRIPTION:https://www.rbcfaith.org/events/thursday-mens-womens-bible-study/
LOCATION:1722 Florida Ave.Woodbridge\, VA
URL:https://www.rbcfaith.org/events/thursday-mens-womens-bible-study/
DTSTAMP:20260419T194527Z
END:VEVENT
END:VCALENDAR
