BEGIN:VCALENDAR
VERSION:2.0
PRODID:-//ChurchDev//Events//EN
CALSCALE:GREGORIAN
METHOD:PUBLISH
BEGIN:VEVENT
UID:3297-20230101@www.rbcfaith.org
SUMMARY:Worship service
DTSTART:20230101T153000Z
DTEND:20230101T170000Z
DESCRIPTION:https://www.rbcfaith.org/events/sunday-worship-service/
LOCATION:1722 Florida Ave.Woodbridge\, VA
URL:https://www.rbcfaith.org/events/sunday-worship-service/
DTSTAMP:20260419T194655Z
END:VEVENT
END:VCALENDAR
