BEGIN:VCALENDAR
VERSION:2.0
PRODID:-//ChurchDev//Events//EN
CALSCALE:GREGORIAN
METHOD:PUBLISH
BEGIN:VEVENT
UID:3295-20230101@www.rbcfaith.org
SUMMARY:Coffee Social
DTSTART:20230101T141000Z
DTEND:20230101T142000Z
DESCRIPTION:https://www.rbcfaith.org/events/coffee-social/
LOCATION:1722 Florida Ave.Woodbridge\, VA
URL:https://www.rbcfaith.org/events/coffee-social/
DTSTAMP:20260419T194649Z
END:VEVENT
END:VCALENDAR
